BEGIN:VCALENDAR
VERSION:2.0
PRODID:-//hacksw/handcal//NONSGML v1.0//EN
CALSCALE:GREGORIAN
BEGIN:VTIMEZONE
TZID:Asia/Singapore
TZURL:https://tzurl.org/zoneinfo-outlook/Asia/Singapore
X-LIC-LOCATION:Asia/Singapore
BEGIN:STANDARD
TZOFFSETFROM:+0800
TZOFFSETTO:+0800
TZNAME:CST
DTSTART:19700101T000000
END:STANDARD
END:VTIMEZONE
BEGIN:VEVENT
LOCATION:MR325\, Suntec Convention Centre
DESCRIPTION:SSA/047/26/EML\n\nPrice: Free
DTSTART;TZID=Asia/Singapore:20260422T083000
DTEND;TZID=Asia/Singapore:20260422T130000
SUMMARY:ASA Shipping Dialogue 2026
URL;VALUE=URI:https://docs.google.com/forms/d/e/1FAIpQLScAf7JwekN4v9DARcruMee3hoP-1Iah0gKJsMiTnRD_mi5S7g/viewform
DTSTAMP:20260420T100138
UID:69e5f9823a90f
BEGIN:VALARM
ACTION:DISPLAY
DESCRIPTION:ASA Shipping Dialogue 2026
TRIGGER:-PT15M
END:VALARM
END:VEVENT
END:VCALENDAR