BEGIN:VCALENDAR
VERSION:2.0
PRODID:-//hacksw/handcal//NONSGML v1.0//EN
CALSCALE:GREGORIAN
BEGIN:VTIMEZONE
TZID:Asia/Singapore
TZURL:https://tzurl.org/zoneinfo-outlook/Asia/Singapore
X-LIC-LOCATION:Asia/Singapore
BEGIN:STANDARD
TZOFFSETFROM:+0800
TZOFFSETTO:+0800
TZNAME:CST
DTSTART:19700101T000000
END:STANDARD
END:VTIMEZONE
BEGIN:VEVENT
LOCATION:Sands Expo &amp\; Convention Centre\, Singapore
DESCRIPTION:SSA/050/26/EML\n\nPrice: $200
DTSTART;TZID=Asia/Singapore:20260513T093000
DTEND;TZID=Asia/Singapore:20260514T170000
SUMMARY:Future Economy Conference
URL;VALUE=URI:https://members.sbf.org.sg/Future-Economy-Conference
DTSTAMP:20260420T095849
UID:69e5f8d97a6fa
BEGIN:VALARM
ACTION:DISPLAY
DESCRIPTION:Future Economy Conference
TRIGGER:-PT15M
END:VALARM
END:VEVENT
END:VCALENDAR