BEGIN:VCALENDAR
VERSION:2.0
PRODID:-//hacksw/handcal//NONSGML v1.0//EN
CALSCALE:GREGORIAN
BEGIN:VTIMEZONE
TZID:Asia/Singapore
TZURL:https://tzurl.org/zoneinfo-outlook/Asia/Singapore
X-LIC-LOCATION:Asia/Singapore
BEGIN:STANDARD
TZOFFSETFROM:+0800
TZOFFSETTO:+0800
TZNAME:CST
DTSTART:19700101T000000
END:STANDARD
END:VTIMEZONE
BEGIN:VEVENT
LOCATION:Marine South Pier
DESCRIPTION:This event is a proud partner of the <b>Singapore Heritage Fest 2026</b>\, which celebrates our nation's rich maritime legacy. By showcasing <i>Vega</i>\, we demonstrate that technology and heritage are not opposing forces\, but partners in progress.
DTSTART;TZID=Asia/Singapore:20260501T090000
DTEND;TZID=Asia/Singapore:20260503T120000
SUMMARY:Vega Open House @ Marina South Pier
URL;VALUE=URI:https://smhig.weebly.com/historic-sailboat-vega-open-house-2026.html
DTSTAMP:20260420T100432
UID:69e5fa308bca4
BEGIN:VALARM
ACTION:DISPLAY
DESCRIPTION:Vega Open House @ Marina South Pier
TRIGGER:-PT15M
END:VALARM
END:VEVENT
END:VCALENDAR